BEGIN:VCALENDAR
VERSION:2.0
PRODID:-//Adaptive Life Farm - ECPv6.15.3//NONSGML v1.0//EN
CALSCALE:GREGORIAN
METHOD:PUBLISH
X-ORIGINAL-URL:https://adaptivelifefarm.com
X-WR-CALDESC:Events for Adaptive Life Farm
REFRESH-INTERVAL;VALUE=DURATION:PT1H
X-Robots-Tag:noindex
X-PUBLISHED-TTL:PT1H
BEGIN:VTIMEZONE
TZID:UTC
BEGIN:STANDARD
TZOFFSETFROM:+0000
TZOFFSETTO:+0000
TZNAME:UTC
DTSTART:20190101T000000
END:STANDARD
END:VTIMEZONE
BEGIN:VEVENT
DTSTART;VALUE=DATE:20190320
DTEND;VALUE=DATE:20190321
DTSTAMP:20260423T165943
CREATED:20190318T161230Z
LAST-MODIFIED:20190318T161337Z
UID:232-1553040000-1553126399@adaptivelifefarm.com
SUMMARY:First Day of Spring!
DESCRIPTION:Happy First Day of Spring!
URL:https://adaptivelifefarm.com/event/first-day-of-spring/
END:VEVENT
END:VCALENDAR